BEGIN:VCALENDAR
VERSION:2.0
PRODID:-//Islington Guided Walks - ECPv6.15.11//NONSGML v1.0//EN
CALSCALE:GREGORIAN
METHOD:PUBLISH
X-WR-CALNAME:Islington Guided Walks
X-ORIGINAL-URL:https://islingtonguidedwalks.com
X-WR-CALDESC:Events for Islington Guided Walks
REFRESH-INTERVAL;VALUE=DURATION:PT1H
X-Robots-Tag:noindex
X-PUBLISHED-TTL:PT1H
BEGIN:VTIMEZONE
TZID:Europe/London
BEGIN:DAYLIGHT
TZOFFSETFROM:+0000
TZOFFSETTO:+0100
TZNAME:BST
DTSTART:20240331T010000
END:DAYLIGHT
BEGIN:STANDARD
TZOFFSETFROM:+0100
TZOFFSETTO:+0000
TZNAME:GMT
DTSTART:20241027T010000
END:STANDARD
BEGIN:DAYLIGHT
TZOFFSETFROM:+0000
TZOFFSETTO:+0100
TZNAME:BST
DTSTART:20250330T010000
END:DAYLIGHT
BEGIN:STANDARD
TZOFFSETFROM:+0100
TZOFFSETTO:+0000
TZNAME:GMT
DTSTART:20251026T010000
END:STANDARD
BEGIN:DAYLIGHT
TZOFFSETFROM:+0000
TZOFFSETTO:+0100
TZNAME:BST
DTSTART:20260329T010000
END:DAYLIGHT
BEGIN:STANDARD
TZOFFSETFROM:+0100
TZOFFSETTO:+0000
TZNAME:GMT
DTSTART:20261025T010000
END:STANDARD
END:VTIMEZONE
BEGIN:VEVENT
DTSTART;TZID=Europe/London:20251019T110000
DTEND;TZID=Europe/London:20251019T124500
DTSTAMP:20260421T182943
CREATED:20250918T124335Z
LAST-MODIFIED:20260312T144728Z
UID:10000314-1760871600-1760877900@islingtonguidedwalks.com
SUMMARY:The Diary of a Nobody - Mr Pooter's High Brow Holloway
DESCRIPTION:The Diary of a Nobody started as a popular satirical column in Punch magazine in 1888 before being extended and published in book form a few years later.   \nThis guided tour brings the book to life\, taking you back to the late Victorian middle-class Holloway that Mr. Charles Pooter and his family and friends might have experienced had they been real people.   \nWe’ll look at relevant buildings\, shops\, and street furniture to link to the stories in the diary\, such as Pooter’s silly arguments with the ironmonger\, the shirt dresser and the stationer. Find out about 1880’s Holloway in the form of theatre venues\, transportation\, tradesmen and gin palaces as you roll your eyes at his clunky puns.   \nYou don’t need to have already read the book to enjoy this tour\, but it’s likely you’ll want to do so afterwards!  \nFor more info on this specific walk please use the website link at the bottom or see janeslondonwalks on Eventbrite \n\n\n	Related
URL:https://islingtonguidedwalks.com/our-walk/the-diary-of-a-nobody-mr-pooters-high-brow-holloway-3/
LOCATION:Upper Holloway
ATTACH;FMTTYPE=image/png:https://islingtonguidedwalks.com/wp-content/uploads/2024/08/Pooter_TheLaurels.png
ORGANIZER;CN="Jane Parker":MAILTO:janepbr@hotmail.com
END:VEVENT
END:VCALENDAR