BEGIN:VCALENDAR
VERSION:2.0
PRODID:-//Islington Guided Walks - ECPv6.15.11//NONSGML v1.0//EN
CALSCALE:GREGORIAN
METHOD:PUBLISH
X-WR-CALNAME:Islington Guided Walks
X-ORIGINAL-URL:https://islingtonguidedwalks.com
X-WR-CALDESC:Events for Islington Guided Walks
REFRESH-INTERVAL;VALUE=DURATION:PT1H
X-Robots-Tag:noindex
X-PUBLISHED-TTL:PT1H
BEGIN:VTIMEZONE
TZID:Europe/London
BEGIN:DAYLIGHT
TZOFFSETFROM:+0000
TZOFFSETTO:+0100
TZNAME:BST
DTSTART:20240331T010000
END:DAYLIGHT
BEGIN:STANDARD
TZOFFSETFROM:+0100
TZOFFSETTO:+0000
TZNAME:GMT
DTSTART:20241027T010000
END:STANDARD
BEGIN:DAYLIGHT
TZOFFSETFROM:+0000
TZOFFSETTO:+0100
TZNAME:BST
DTSTART:20250330T010000
END:DAYLIGHT
BEGIN:STANDARD
TZOFFSETFROM:+0100
TZOFFSETTO:+0000
TZNAME:GMT
DTSTART:20251026T010000
END:STANDARD
BEGIN:DAYLIGHT
TZOFFSETFROM:+0000
TZOFFSETTO:+0100
TZNAME:BST
DTSTART:20260329T010000
END:DAYLIGHT
BEGIN:STANDARD
TZOFFSETFROM:+0100
TZOFFSETTO:+0000
TZNAME:GMT
DTSTART:20261025T010000
END:STANDARD
END:VTIMEZONE
BEGIN:VEVENT
DTSTART;TZID=Europe/London:20251207T110000
DTEND;TZID=Europe/London:20251207T130000
DTSTAMP:20260421T152336
CREATED:20251011T095103Z
LAST-MODIFIED:20251011T095103Z
UID:10000323-1765105200-1765112400@islingtonguidedwalks.com
SUMMARY:Iconic Stages of Islington: Theatre & Music Walking Tour
DESCRIPTION:When people think of London’s theatre scene\, the West End often comes to mind. However\, to the surprise of many\, Islington actually has a rich and diverse theatrical history\, from Victorian music halls to today’s cutting-edge fringe theatre. This walk will take you through centuries of drama\, dance\, music and comedy\, revealing the hidden stages that have shaped British theatre. \n\nWhy Islington? \nIslington has been a centre of performance for over 400 years. The borough’s theatre history spans centuries of grand dance stages\, lively pub theatres\, and iconic music venues. Some of the UK’s greatest actors\, playwrights\, musicians\, and comedians have started their careers here\, and today\, it remains a hub for bold\, experimental theatre. \nThis tour uncovers the hidden stories of legendary venues\, visionary theatre-makers\, and show-stopping performances. Whether you’re a theatre enthusiast or a curious audience\, come discover the borough’s stagey stories and enduring creative spirit. \n\nWho is this tour for? \nThis tour is perfect for: \n\nTheatre enthusiasts eager to explore off-West End venues and theatre history.\nHistory lovers interested in the evolution of London’s entertainment scene.\nCurious Londoners keen to discover the hidden stories behind local landmarks.\n\nNo prior theatre knowledge is needed – just a comfortable pair of shoes and a sense of adventure! \n\nWhy You Should Join This Tour \nThis tour offers a fresh perspective on London’s theatre history\, far from the West End’s bright lights. It’s a chance to discover hidden gems\, hear fascinating stagey stories\, and see where tomorrow’s stars are being made. \nEven if you think you know London’s theatre scene\, Islington will surprise you. And who knows? You might leave with tickets to a show at one of these incredible venues. \n\n\n	Related
URL:https://islingtonguidedwalks.com/our-walk/iconic-stages-of-islington-theatre-music-walking-tour/2025-12-07/
LOCATION:Sadler’s Wells Theatre
ATTACH;FMTTYPE=image/jpeg:https://islingtonguidedwalks.com/wp-content/uploads/2025/10/Tour-Photo_LR.jpg
END:VEVENT
BEGIN:VEVENT
DTSTART;TZID=Europe/London:20251102T110000
DTEND;TZID=Europe/London:20251102T130000
DTSTAMP:20260421T152336
CREATED:20251011T095103Z
LAST-MODIFIED:20251011T095103Z
UID:10000322-1762081200-1762088400@islingtonguidedwalks.com
SUMMARY:Iconic Stages of Islington: Theatre & Music Walking Tour
DESCRIPTION:When people think of London’s theatre scene\, the West End often comes to mind. However\, to the surprise of many\, Islington actually has a rich and diverse theatrical history\, from Victorian music halls to today’s cutting-edge fringe theatre. This walk will take you through centuries of drama\, dance\, music and comedy\, revealing the hidden stages that have shaped British theatre. \n\nWhy Islington? \nIslington has been a centre of performance for over 400 years. The borough’s theatre history spans centuries of grand dance stages\, lively pub theatres\, and iconic music venues. Some of the UK’s greatest actors\, playwrights\, musicians\, and comedians have started their careers here\, and today\, it remains a hub for bold\, experimental theatre. \nThis tour uncovers the hidden stories of legendary venues\, visionary theatre-makers\, and show-stopping performances. Whether you’re a theatre enthusiast or a curious audience\, come discover the borough’s stagey stories and enduring creative spirit. \n\nWho is this tour for? \nThis tour is perfect for: \n\nTheatre enthusiasts eager to explore off-West End venues and theatre history.\nHistory lovers interested in the evolution of London’s entertainment scene.\nCurious Londoners keen to discover the hidden stories behind local landmarks.\n\nNo prior theatre knowledge is needed – just a comfortable pair of shoes and a sense of adventure! \n\nWhy You Should Join This Tour \nThis tour offers a fresh perspective on London’s theatre history\, far from the West End’s bright lights. It’s a chance to discover hidden gems\, hear fascinating stagey stories\, and see where tomorrow’s stars are being made. \nEven if you think you know London’s theatre scene\, Islington will surprise you. And who knows? You might leave with tickets to a show at one of these incredible venues. \n\n\n	Related
URL:https://islingtonguidedwalks.com/our-walk/iconic-stages-of-islington-theatre-music-walking-tour/2025-11-02/
LOCATION:Sadler’s Wells Theatre
ATTACH;FMTTYPE=image/jpeg:https://islingtonguidedwalks.com/wp-content/uploads/2025/10/Tour-Photo_LR.jpg
END:VEVENT
END:VCALENDAR