BEGIN:VCALENDAR
VERSION:2.0
PRODID:-//Islington Guided Walks - ECPv6.15.11//NONSGML v1.0//EN
CALSCALE:GREGORIAN
METHOD:PUBLISH
X-WR-CALNAME:Islington Guided Walks
X-ORIGINAL-URL:https://islingtonguidedwalks.com
X-WR-CALDESC:Events for Islington Guided Walks
REFRESH-INTERVAL;VALUE=DURATION:PT1H
X-Robots-Tag:noindex
X-PUBLISHED-TTL:PT1H
BEGIN:VTIMEZONE
TZID:Europe/London
BEGIN:DAYLIGHT
TZOFFSETFROM:+0000
TZOFFSETTO:+0100
TZNAME:BST
DTSTART:20240331T010000
END:DAYLIGHT
BEGIN:STANDARD
TZOFFSETFROM:+0100
TZOFFSETTO:+0000
TZNAME:GMT
DTSTART:20241027T010000
END:STANDARD
BEGIN:DAYLIGHT
TZOFFSETFROM:+0000
TZOFFSETTO:+0100
TZNAME:BST
DTSTART:20250330T010000
END:DAYLIGHT
BEGIN:STANDARD
TZOFFSETFROM:+0100
TZOFFSETTO:+0000
TZNAME:GMT
DTSTART:20251026T010000
END:STANDARD
BEGIN:DAYLIGHT
TZOFFSETFROM:+0000
TZOFFSETTO:+0100
TZNAME:BST
DTSTART:20260329T010000
END:DAYLIGHT
BEGIN:STANDARD
TZOFFSETFROM:+0100
TZOFFSETTO:+0000
TZNAME:GMT
DTSTART:20261025T010000
END:STANDARD
END:VTIMEZONE
BEGIN:VEVENT
DTSTART;TZID=Europe/London:20251228T110000
DTEND;TZID=Europe/London:20251228T123000
DTSTAMP:20260422T202623
CREATED:20251221T165829Z
LAST-MODIFIED:20251221T165829Z
UID:10000369-1766919600-1766925000@islingtonguidedwalks.com
SUMMARY:Winter Wanders: Highbury and Upper Street Gems
DESCRIPTION:At the heart of Islington\, Highbury has so many Jewels in its Crown\, some in plain sight\, some hidden away. Join me to learn their stories !\nHighbury has been a centre for the local area for many years\, from entertainment\, to shopping\, from sports to cafe culture. So many people and places dripping with history. Join me to learn about the characters and stories of Highbury’s rich past.\n\nWe’ll be covering 900 years from it’s days as open fields to it’s current thriving community\, and it’s landmark venues. This is a fun\, informal walk – learning the backstories of Union Chapel\, the Almeida theatre. the Angel Puppet theatre. The evolution of Highbury corner\, it’s time as the Dairy Capital of England – and some hidden gems\, off the beaten track ! And of course find out about the history of the historic Canonbury Tower with its own 500 years of fascinating stories and people.
URL:https://islingtonguidedwalks.com/our-walk/winter-wanders-highbury-and-upper-street-gems/
LOCATION:Highbury & Islington Station
ATTACH;FMTTYPE=image/png:https://islingtonguidedwalks.com/wp-content/uploads/2025/12/St-Mary-Islington.png
END:VEVENT
END:VCALENDAR