BEGIN:VCALENDAR
VERSION:2.0
PRODID:-//Islington Guided Walks - ECPv6.15.11//NONSGML v1.0//EN
CALSCALE:GREGORIAN
METHOD:PUBLISH
X-WR-CALNAME:Islington Guided Walks
X-ORIGINAL-URL:https://islingtonguidedwalks.com
X-WR-CALDESC:Events for Islington Guided Walks
REFRESH-INTERVAL;VALUE=DURATION:PT1H
X-Robots-Tag:noindex
X-PUBLISHED-TTL:PT1H
BEGIN:VTIMEZONE
TZID:Europe/London
BEGIN:DAYLIGHT
TZOFFSETFROM:+0000
TZOFFSETTO:+0100
TZNAME:BST
DTSTART:20250330T010000
END:DAYLIGHT
BEGIN:STANDARD
TZOFFSETFROM:+0100
TZOFFSETTO:+0000
TZNAME:GMT
DTSTART:20251026T010000
END:STANDARD
BEGIN:DAYLIGHT
TZOFFSETFROM:+0000
TZOFFSETTO:+0100
TZNAME:BST
DTSTART:20260329T010000
END:DAYLIGHT
BEGIN:STANDARD
TZOFFSETFROM:+0100
TZOFFSETTO:+0000
TZNAME:GMT
DTSTART:20261025T010000
END:STANDARD
BEGIN:DAYLIGHT
TZOFFSETFROM:+0000
TZOFFSETTO:+0100
TZNAME:BST
DTSTART:20270328T010000
END:DAYLIGHT
BEGIN:STANDARD
TZOFFSETFROM:+0100
TZOFFSETTO:+0000
TZNAME:GMT
DTSTART:20271031T010000
END:STANDARD
END:VTIMEZONE
BEGIN:VEVENT
DTSTART;TZID=Europe/London:20260212T110000
DTEND;TZID=Europe/London:20260212T130000
DTSTAMP:20260422T162736
CREATED:20251202T132456Z
LAST-MODIFIED:20260111T134750Z
UID:10000341-1770894000-1770901200@islingtonguidedwalks.com
SUMMARY:Ghostsigns of Islington: bygone brands and businesses
DESCRIPTION:Ghostsigns are the remnants of old advertising that still cling to the walls above today’s busy streets depicting products or services that are no longer available. There are some excellent examples to be found in adjacent to Islington High Street.  \nMost of the signs we’ll look at will be the hand-painted variety\, as per the example shown here\, but you will also see other types of old signage such as low reliefs\, forged metal and carved and gilded shop fronts.  \nLearn about the unusual businesses\, people or products behind the signs; from vets to vegans\, rubber to metal and cars to chemists. \nStarts near the Town Hall and ends at Angel station. \nFor more info on this specific walk please use the website link at the bottom or see janeslondonwalks on Eventbrite
URL:https://islingtonguidedwalks.com/our-walk/ghostsigns-of-islington-bygone-brands-and-businesses-8/
ATTACH;FMTTYPE=image/png:https://islingtonguidedwalks.com/wp-content/uploads/2024/08/Gsigns_Dunns.png
ORGANIZER;CN="Jane Parker":MAILTO:janepbr@hotmail.com
END:VEVENT
BEGIN:VEVENT
DTSTART;TZID=Europe/London:20260214T140000
DTEND;TZID=Europe/London:20260214T153000
DTSTAMP:20260422T162736
CREATED:20251120T214041Z
LAST-MODIFIED:20260421T210832Z
UID:10000339-1771077600-1771083000@islingtonguidedwalks.com
SUMMARY:St Mary Islington - Church and Tower Tour
DESCRIPTION:Discover the history of Islington’s first parish church and climb the 120 steps to the top of tower for the best panoramic views across London. \nSt Mary’s church on Upper Street has played a central role in the history of Islington for over a thousand years and\, during this time\, several different churches have stood on the site\, leaving an eclectic mix of architectural styles. \nFind out about the 12th century Norman church\, its 15th century medieval successor and the 18th century rebuild. During The Blitz of World War II St Mary’s suffered extensive damage – only the tower and steeple survived the bomb. The church was rebuilt in 1956 as a fascinating example of post-war reconstruction\, enhanced by many unique artworks of interest. \n⭐️⭐️⭐️⭐️⭐️ “A brilliant tour… We were impressed by [the guides’] knowledge\, enthusiasm and storytelling. And the view of London from the tower… is a feast for the eyes!” \n⭐️⭐️⭐️⭐️⭐️ “A very interesting 90 minutes. Guide friendly\, well-prepared\, informative and easy to listen to. Getting to the top of the 18th-century church tower is the highlight.” \nFor more info and booking for this tour please use this website link. \nThis tour is repeated monthly – to see all our up-coming tours please visit our Eventbrite page here
URL:https://islingtonguidedwalks.com/our-walk/st-mary-islington-church-and-tower-tour-3/2026-02-14/
ATTACH;FMTTYPE=image/jpeg:https://islingtonguidedwalks.com/wp-content/uploads/2025/11/St-Marys-Tour-JW-SB-Oct-25.jpg
END:VEVENT
END:VCALENDAR