BEGIN:VCALENDAR
VERSION:2.0
PRODID:-//Islington Guided Walks - ECPv6.15.11//NONSGML v1.0//EN
CALSCALE:GREGORIAN
METHOD:PUBLISH
X-ORIGINAL-URL:https://islingtonguidedwalks.com
X-WR-CALDESC:Events for Islington Guided Walks
REFRESH-INTERVAL;VALUE=DURATION:PT1H
X-Robots-Tag:noindex
X-PUBLISHED-TTL:PT1H
BEGIN:VTIMEZONE
TZID:Europe/London
BEGIN:DAYLIGHT
TZOFFSETFROM:+0000
TZOFFSETTO:+0100
TZNAME:BST
DTSTART:20250330T010000
END:DAYLIGHT
BEGIN:STANDARD
TZOFFSETFROM:+0100
TZOFFSETTO:+0000
TZNAME:GMT
DTSTART:20251026T010000
END:STANDARD
BEGIN:DAYLIGHT
TZOFFSETFROM:+0000
TZOFFSETTO:+0100
TZNAME:BST
DTSTART:20260329T010000
END:DAYLIGHT
BEGIN:STANDARD
TZOFFSETFROM:+0100
TZOFFSETTO:+0000
TZNAME:GMT
DTSTART:20261025T010000
END:STANDARD
BEGIN:DAYLIGHT
TZOFFSETFROM:+0000
TZOFFSETTO:+0100
TZNAME:BST
DTSTART:20270328T010000
END:DAYLIGHT
BEGIN:STANDARD
TZOFFSETFROM:+0100
TZOFFSETTO:+0000
TZNAME:GMT
DTSTART:20271031T010000
END:STANDARD
END:VTIMEZONE
BEGIN:VEVENT
DTSTART;TZID=Europe/London:20260310T110000
DTEND;TZID=Europe/London:20260310T130000
DTSTAMP:20260422T152636
CREATED:20250313T195954Z
LAST-MODIFIED:20260312T144613Z
UID:10000214-1773140400-1773147600@islingtonguidedwalks.com
SUMMARY:Literary Holloway
DESCRIPTION:A mixed bag showcasing the diverse and creative people who have lived and worked in the Holloway area across the centuries. \nLearn about innovators and inventors\, diarists and dandies\, punks and painters\, space travel and sport. \nWe’ll visit locations associated with poets\, playwrights\, musicians\, artists and thieves – some names you might already know but other fascinating characters will\, I hope\, be new to you. \nThe walk starts near Holloway Road tube station and lasts just under two hours\, ending near Upper Holloway station / ten minutes’ walk from Archway tube station. \nFor more info on this specific walk please use the website link at the bottom or see janeslondonwalks on Eventbrite
URL:https://islingtonguidedwalks.com/our-walk/literary-holloway/
ATTACH;FMTTYPE=image/jpeg:https://islingtonguidedwalks.com/wp-content/uploads/2025/03/JLW_LiteraryHolloway_4x3.jpg
ORGANIZER;CN="Jane Parker":MAILTO:janepbr@hotmail.com
END:VEVENT
BEGIN:VEVENT
DTSTART;TZID=Europe/London:20260314T140000
DTEND;TZID=Europe/London:20260314T153000
DTSTAMP:20260422T152637
CREATED:20251120T214041Z
LAST-MODIFIED:20260421T210832Z
UID:10000340-1773496800-1773502200@islingtonguidedwalks.com
SUMMARY:St Mary Islington - Church and Tower Tour
DESCRIPTION:Discover the history of Islington’s first parish church and climb the 120 steps to the top of tower for the best panoramic views across London. \nSt Mary’s church on Upper Street has played a central role in the history of Islington for over a thousand years and\, during this time\, several different churches have stood on the site\, leaving an eclectic mix of architectural styles. \nFind out about the 12th century Norman church\, its 15th century medieval successor and the 18th century rebuild. During The Blitz of World War II St Mary’s suffered extensive damage – only the tower and steeple survived the bomb. The church was rebuilt in 1956 as a fascinating example of post-war reconstruction\, enhanced by many unique artworks of interest. \n⭐️⭐️⭐️⭐️⭐️ “A brilliant tour… We were impressed by [the guides’] knowledge\, enthusiasm and storytelling. And the view of London from the tower… is a feast for the eyes!” \n⭐️⭐️⭐️⭐️⭐️ “A very interesting 90 minutes. Guide friendly\, well-prepared\, informative and easy to listen to. Getting to the top of the 18th-century church tower is the highlight.” \nFor more info and booking for this tour please use this website link. \nThis tour is repeated monthly – to see all our up-coming tours please visit our Eventbrite page here
URL:https://islingtonguidedwalks.com/our-walk/st-mary-islington-church-and-tower-tour-3/2026-03-14/
ATTACH;FMTTYPE=image/jpeg:https://islingtonguidedwalks.com/wp-content/uploads/2025/11/St-Marys-Tour-JW-SB-Oct-25.jpg
END:VEVENT
BEGIN:VEVENT
DTSTART;TZID=Europe/London:20260317T143000
DTEND;TZID=Europe/London:20260317T163000
DTSTAMP:20260422T152637
CREATED:20251021T162546Z
LAST-MODIFIED:20260312T144551Z
UID:10000324-1773757800-1773765000@islingtonguidedwalks.com
SUMMARY:The Only Way Is Essex Road
DESCRIPTION:One of Islington’s often-ignored streets\, this thoroughfare offers a wealth of diverse history and architectural delights.  \nJane will lead you along the full length of the road from Islington Green to Ball’s Pond Road covering 500 years of history\, from Tudor houses\, through 1820’s Georgian splendour and Victorian expansion to Art Deco embellishment and today’s new developments.  \nAlong the way you’ll hear about institutions\, innovations\, clean water\, vaudeville\, alcohol\, scuppered plans and criminal damage.    \nFor more info on this specific walk please use the website link at the bottom or see janeslondonwalks on Eventbrite
URL:https://islingtonguidedwalks.com/our-walk/the-only-way-is-essex-road-3/
ATTACH;FMTTYPE=image/jpeg:https://islingtonguidedwalks.com/wp-content/uploads/2025/03/JanesLondon_EssexRd1820s.jpg
ORGANIZER;CN="Jane Parker":MAILTO:janepbr@hotmail.com
END:VEVENT
BEGIN:VEVENT
DTSTART;TZID=Europe/London:20260321T110000
DTEND;TZID=Europe/London:20260321T123000
DTSTAMP:20260422T152637
CREATED:20260216T220211Z
LAST-MODIFIED:20260216T220233Z
UID:10000432-1774090800-1774096200@islingtonguidedwalks.com
SUMMARY:Nipping and Noshing in Clerkenwell
DESCRIPTION:A tour with a former Pub Landlady and Cook which explores not only the why and wherefore of the explosion of restaurants\, cafes and bars in the area over the last 30 years or so\, but also dining and drinking from the past\, including feasting with royalty and monks\, eating with the Victorian working classes and how Gin nearly drove everyone crazy! \nThis tour starts outside the Elizabeth Line entrance to Farringdon Station\, Cowcross Street – opposite the Underground entrance and near to the Castle Pub – starting at 1100\, but please arrive about 5 to 10 minutes before we set off.  We’ll finish at Exmouth Market after about 90 minutes – a short walk to Farringdon or Angel stations \n  \n(This is a walking tour\, not a tasting tour)
URL:https://islingtonguidedwalks.com/our-walk/nipping-and-noshing-in-clerkenwell-2/
LOCATION:Farringdon Station\, Cowcross Street\, London\, EC1M 6BY\, United Kingdom
ATTACH;FMTTYPE=image/png:https://islingtonguidedwalks.com/wp-content/uploads/2026/02/the-crown-tavern.png
END:VEVENT
BEGIN:VEVENT
DTSTART;TZID=Europe/London:20260321T140000
DTEND;TZID=Europe/London:20260321T160000
DTSTAMP:20260422T152637
CREATED:20260112T234903Z
LAST-MODIFIED:20260112T234903Z
UID:10000419-1774101600-1774108800@islingtonguidedwalks.com
SUMMARY:Historic Highbury- a guided history walk with pub stop
DESCRIPTION:Join Greg The Guide for a fun stroll through Highbury’s history\, with history and stories along the way\, and a comfort stop at a local pub\n\n\n\nHistoric Highbury – a guided walk with pubs\nJoin ““Qualified Islington guide and local resident Greg for a fun and informative stroll through the streets of historic Canonbury\, starting at Highbury! Discover fascinating stories and hidden gems as we explore the area’s rich history. Along the way\, we’ll pop into a classic local pub for a comfort break and beverage (optional additional pubs pre-tour and at the end) Perfect for history buffs\, music lovers and pub lovers alike. Lace up your walking shoes and come ready to explore! \n`Tour not suitable for children\, dogs or racists. \nBe #GuidedByGreg
URL:https://islingtonguidedwalks.com/our-walk/historic-highbury-a-guided-history-walk-with-pub-stop/
LOCATION:Highbury & Islington Station
ATTACH;FMTTYPE=image/jpeg:https://islingtonguidedwalks.com/wp-content/uploads/2026/01/https___cdn.evbuc_.com_images_1173951025_1578163309713_1_original.jpeg
END:VEVENT
BEGIN:VEVENT
DTSTART;TZID=Europe/London:20260329T110000
DTEND;TZID=Europe/London:20260329T123000
DTSTAMP:20260422T152637
CREATED:20260105T161114Z
LAST-MODIFIED:20260105T161114Z
UID:10000409-1774782000-1774787400@islingtonguidedwalks.com
SUMMARY:Caledonian Clock Tower
DESCRIPTION:Discover the hidden history of the Caledonian Market Clock Tower\, the last surviving structure of Islington’s vast Victorian livestock market. On this guided tour with Islington Guided Walks\, you’ll explore how thousands of cattle\, sheep and pigs once passed through this site each week\, shaping the streets\, pubs and daily life of north London. \nClimb 178 historic steps inside the Grade II* listed tower to see the original Victorian clock mechanism\, still wound by hand\, and enjoy sweeping views across London from the upper levels. Along the way\, uncover the dramatic rise\, decline and survival of the market\, and how this remarkable tower was saved and restored as a local landmark. \nPlease note: this tour involves steep\, narrow stairs and requires sturdy footwear.
URL:https://islingtonguidedwalks.com/our-walk/caledonian-clock-tower-4/2026-03-29/1/
ATTACH;FMTTYPE=image/png:https://islingtonguidedwalks.com/wp-content/uploads/2026/01/Untitled-design-7.png
END:VEVENT
BEGIN:VEVENT
DTSTART;TZID=Europe/London:20260329T130000
DTEND;TZID=Europe/London:20260329T143000
DTSTAMP:20260422T152637
CREATED:20260105T161114Z
LAST-MODIFIED:20260105T161114Z
UID:10000410-1774789200-1774794600@islingtonguidedwalks.com
SUMMARY:Caledonian Clock Tower
DESCRIPTION:Discover the hidden history of the Caledonian Market Clock Tower\, the last surviving structure of Islington’s vast Victorian livestock market. On this guided tour with Islington Guided Walks\, you’ll explore how thousands of cattle\, sheep and pigs once passed through this site each week\, shaping the streets\, pubs and daily life of north London. \nClimb 178 historic steps inside the Grade II* listed tower to see the original Victorian clock mechanism\, still wound by hand\, and enjoy sweeping views across London from the upper levels. Along the way\, uncover the dramatic rise\, decline and survival of the market\, and how this remarkable tower was saved and restored as a local landmark. \nPlease note: this tour involves steep\, narrow stairs and requires sturdy footwear.
URL:https://islingtonguidedwalks.com/our-walk/caledonian-clock-tower-4/2026-03-29/2/
ATTACH;FMTTYPE=image/png:https://islingtonguidedwalks.com/wp-content/uploads/2026/01/Untitled-design-7.png
END:VEVENT
END:VCALENDAR