BEGIN:VCALENDAR
VERSION:2.0
PRODID:-//Islington Guided Walks - ECPv6.15.11//NONSGML v1.0//EN
CALSCALE:GREGORIAN
METHOD:PUBLISH
X-ORIGINAL-URL:https://islingtonguidedwalks.com
X-WR-CALDESC:Events for Islington Guided Walks
REFRESH-INTERVAL;VALUE=DURATION:PT1H
X-Robots-Tag:noindex
X-PUBLISHED-TTL:PT1H
BEGIN:VTIMEZONE
TZID:Europe/London
BEGIN:DAYLIGHT
TZOFFSETFROM:+0000
TZOFFSETTO:+0100
TZNAME:BST
DTSTART:20240331T010000
END:DAYLIGHT
BEGIN:STANDARD
TZOFFSETFROM:+0100
TZOFFSETTO:+0000
TZNAME:GMT
DTSTART:20241027T010000
END:STANDARD
BEGIN:DAYLIGHT
TZOFFSETFROM:+0000
TZOFFSETTO:+0100
TZNAME:BST
DTSTART:20250330T010000
END:DAYLIGHT
BEGIN:STANDARD
TZOFFSETFROM:+0100
TZOFFSETTO:+0000
TZNAME:GMT
DTSTART:20251026T010000
END:STANDARD
BEGIN:DAYLIGHT
TZOFFSETFROM:+0000
TZOFFSETTO:+0100
TZNAME:BST
DTSTART:20260329T010000
END:DAYLIGHT
BEGIN:STANDARD
TZOFFSETFROM:+0100
TZOFFSETTO:+0000
TZNAME:GMT
DTSTART:20261025T010000
END:STANDARD
END:VTIMEZONE
BEGIN:VEVENT
DTSTART;TZID=Europe/London:20251230T140000
DTEND;TZID=Europe/London:20251230T153000
DTSTAMP:20260421T205624
CREATED:20251229T131807Z
LAST-MODIFIED:20251229T131807Z
UID:10000375-1767103200-1767108600@islingtonguidedwalks.com
SUMMARY:Winter Wanders: Crazy Clerkenwell\, a guided history walk
DESCRIPTION:Ready to dive into the wild past of Clerkenwell? Join an in-person guided history walk and discover stories that’ll blow your mind! From hidden gems to twisted tales\, this tour will bring the streets of Clerkenwell to life. Perfect for history buffs and curious wanderers alike! \nMEETING POINT OUTSIDE FARINGDON STATION 2pm \nThe tour lasts approximately 90 mins. Comfortable shoes and weather appropriate clothing is strongly recommended! \nGUIDE -your guide Greg is a qualified tour guide with Islington Guided Walks. \nThe Walk is part of the #WinterWanders series \n#Clerkenwell #GuidedByGreg #GregTheGuide
URL:https://islingtonguidedwalks.com/our-walk/winter-wanders-crazy-clerkenwell-a-guided-history-walk/
ATTACH;FMTTYPE=image/jpeg:https://islingtonguidedwalks.com/wp-content/uploads/2025/12/https___cdn.evbuc_.com_images_1173532472_1578163309713_1_original.jpeg
END:VEVENT
END:VCALENDAR