BEGIN:VCALENDAR
VERSION:2.0
PRODID:-//Islington Guided Walks - ECPv6.15.11//NONSGML v1.0//EN
CALSCALE:GREGORIAN
METHOD:PUBLISH
X-ORIGINAL-URL:https://islingtonguidedwalks.com
X-WR-CALDESC:Events for Islington Guided Walks
REFRESH-INTERVAL;VALUE=DURATION:PT1H
X-Robots-Tag:noindex
X-PUBLISHED-TTL:PT1H
BEGIN:VTIMEZONE
TZID:Europe/London
BEGIN:DAYLIGHT
TZOFFSETFROM:+0000
TZOFFSETTO:+0100
TZNAME:BST
DTSTART:20250330T010000
END:DAYLIGHT
BEGIN:STANDARD
TZOFFSETFROM:+0100
TZOFFSETTO:+0000
TZNAME:GMT
DTSTART:20251026T010000
END:STANDARD
BEGIN:DAYLIGHT
TZOFFSETFROM:+0000
TZOFFSETTO:+0100
TZNAME:BST
DTSTART:20260329T010000
END:DAYLIGHT
BEGIN:STANDARD
TZOFFSETFROM:+0100
TZOFFSETTO:+0000
TZNAME:GMT
DTSTART:20261025T010000
END:STANDARD
BEGIN:DAYLIGHT
TZOFFSETFROM:+0000
TZOFFSETTO:+0100
TZNAME:BST
DTSTART:20270328T010000
END:DAYLIGHT
BEGIN:STANDARD
TZOFFSETFROM:+0100
TZOFFSETTO:+0000
TZNAME:GMT
DTSTART:20271031T010000
END:STANDARD
END:VTIMEZONE
BEGIN:VEVENT
DTSTART;TZID=Europe/London:20260304T120000
DTEND;TZID=Europe/London:20260304T130000
DTSTAMP:20260421T094741
CREATED:20250404T065929Z
LAST-MODIFIED:20260105T151211Z
UID:10000381-1772625600-1772629200@islingtonguidedwalks.com
SUMMARY:Union Chapel Guided Tour
DESCRIPTION:The Union Chapel has towered over Upper Street in Islington since the 1870s and today thrives as an award-winning venue\, homelessness project and a working radical church. \nOn the tour\, led by an expert Islington Guided Walks guide\, you’ll see this architectural gem up close and discover the building’s fascinating history. \nThe Grade I listed Victorian Gothic Chapel is one of the largest Nonconformist churches in London. It houses an important Father Henry Willis organ that is one of few left in the UK with an original hydraulic blowing system\, stunning stained glass windows and a distinctive octagonal interior built for acoustics and visibility. \nTake a tour and learn more about Islington’s heritage\, the Chapel’s triumphant survival after a wartime bomb\, and the fascinating story of its near demolition in the 1980s\, at a time when Victorian architecture was only just being appreciated.
URL:https://islingtonguidedwalks.com/our-walk/union-chapel-guided-tour/2026-03-04/
LOCATION:Union Chapel\, 19b Compton Terrace\, London\, N1 2UN\, United Kingdom
ATTACH;FMTTYPE=image/jpeg:https://islingtonguidedwalks.com/wp-content/uploads/2025/04/Union-Chapel.jpg
END:VEVENT
BEGIN:VEVENT
DTSTART;TZID=Europe/London:20260304T143000
DTEND;TZID=Europe/London:20260304T163000
DTSTAMP:20260421T094741
CREATED:20250817T083755Z
LAST-MODIFIED:20260227T110027Z
UID:10000455-1772634600-1772641800@islingtonguidedwalks.com
SUMMARY:Unusual Islington - a walking tour
DESCRIPTION:Discover the hidden gems that make this corner of London so unique \nJoin qualified local guide Nigel Smith for a captivating and surprising journey through the charming streets of Islington. \nThis two-hour walking tour is designed to unveil the area’s rich and often overlooked history\, showcasing the intriguing stories and quirky details that make this corner of London so unique. \nJust a stone’s throw from bustling Upper Street we’ll delve into the hidden alleyways\, secret gardens and architectural oddities that even locals might miss. You’ll uncover tales of radical politicians\, ghostly goings-on and the philanthropists whose generosity more than 600 years ago is still enjoyed today. Strolling through serene squares and peaceful backstreets you’ll discover that Islington is a lot more unusual than you might think… \nThis tour is perfect for anyone curious about London’s lesser-known stories\, whether you’re a longtime resident or a first-time visitor. Prepare to be surprised\, entertained\, and enlightened as we uncover the unusual and captivating history of Islington. \nThe tour lasts approximately two hours\, starts outside Angel Station and ends at Islington Town Hall on Upper Street.
URL:https://islingtonguidedwalks.com/our-walk/unusual-islington-a-walking-tour-2/2026-03-04/
ATTACH;FMTTYPE=image/jpeg:https://islingtonguidedwalks.com/wp-content/uploads/2025/04/Ubusuak-Islington.jpg
END:VEVENT
END:VCALENDAR