BEGIN:VCALENDAR
VERSION:2.0
PRODID:-//Islington Guided Walks - ECPv6.15.11//NONSGML v1.0//EN
CALSCALE:GREGORIAN
METHOD:PUBLISH
X-ORIGINAL-URL:https://islingtonguidedwalks.com
X-WR-CALDESC:Events for Islington Guided Walks
REFRESH-INTERVAL;VALUE=DURATION:PT1H
X-Robots-Tag:noindex
X-PUBLISHED-TTL:PT1H
BEGIN:VTIMEZONE
TZID:Europe/London
BEGIN:DAYLIGHT
TZOFFSETFROM:+0000
TZOFFSETTO:+0100
TZNAME:BST
DTSTART:20250330T010000
END:DAYLIGHT
BEGIN:STANDARD
TZOFFSETFROM:+0100
TZOFFSETTO:+0000
TZNAME:GMT
DTSTART:20251026T010000
END:STANDARD
BEGIN:DAYLIGHT
TZOFFSETFROM:+0000
TZOFFSETTO:+0100
TZNAME:BST
DTSTART:20260329T010000
END:DAYLIGHT
BEGIN:STANDARD
TZOFFSETFROM:+0100
TZOFFSETTO:+0000
TZNAME:GMT
DTSTART:20261025T010000
END:STANDARD
BEGIN:DAYLIGHT
TZOFFSETFROM:+0000
TZOFFSETTO:+0100
TZNAME:BST
DTSTART:20270328T010000
END:DAYLIGHT
BEGIN:STANDARD
TZOFFSETFROM:+0100
TZOFFSETTO:+0000
TZNAME:GMT
DTSTART:20271031T010000
END:STANDARD
END:VTIMEZONE
BEGIN:VEVENT
DTSTART;TZID=Europe/London:20260221T110000
DTEND;TZID=Europe/London:20260221T123000
DTSTAMP:20260421T110134
CREATED:20260216T214218Z
LAST-MODIFIED:20260216T214218Z
UID:10000431-1771671600-1771677000@islingtonguidedwalks.com
SUMMARY:Nipping and Noshing in Clerkenwell
DESCRIPTION:A tour with a former Pub Landlady and Cook which explores not only the why and wherefore of the explosion of restaurants\, cafes and bars in the area over the last 30 years or so\, but also dining and drinking from the past\, including feasting with royalty and monks\, eating with the Victorian working classes and how Gin nearly drove everyone crazy! \nThis tour starts outside the Elizabeth Line entrance to Farringdon Station\, Cowcross Street – opposite the Underground entrance and near to the Castle Pub – starting at 1100\, but please arrive about 5 to 10 minutes before we set off.  We’ll finish at Exmouth Market after about 90 minutes – a short walk to Farringdon or Angel stations \n  \n(This is a walking tour\, not a tasting tour)
URL:https://islingtonguidedwalks.com/our-walk/nipping-and-noshing-in-clerkenwell/
LOCATION:Farringdon Station\, Cowcross Street\, London\, EC1M 6BY\, United Kingdom
ATTACH;FMTTYPE=image/png:https://islingtonguidedwalks.com/wp-content/uploads/2026/02/the-crown-tavern.png
END:VEVENT
BEGIN:VEVENT
DTSTART;TZID=Europe/London:20260221T110000
DTEND;TZID=Europe/London:20260221T130000
DTSTAMP:20260421T110134
CREATED:20260204T154221Z
LAST-MODIFIED:20260204T154221Z
UID:10000424-1771671600-1771678800@islingtonguidedwalks.com
SUMMARY:Monasteries\, Martyrs\, Murder & Meat
DESCRIPTION:London has a long and dark history of martyrs\, public executions\, body snatchers\, crime and punishment – and butchery. \n“A fantastic tour\, brought to life by a superb\, warm\, and knowledgeable guide.”\n“Fascinating and fabulous. Recommend for both London locals and visitors. Do it\, you’ll love it.”\n“Very enjoyable…\, good pace\, very informative\, will definitely be back.” \nHear tales of hangings and burnings; grave robbers and law enforcement; and the annual fair that became so riotous it was banned after 700 years. Discover medieval monasteries\, the country’s oldest hospital and the City of London’s oldest house. See London’s most famous courthouse\, on the site of its most notorious former prison. \nThe walk lasts approximately two hours. Please be prepared for all weather conditions! \nStart: St Paul’s tube station\, Exit 2 (signed to St Paul’s Cathedral)\nFinish: Charterhouse Square (nearest tubes: Barbican\, Farringdon) \n“Another wonderful walk… excellent… and highly recommended… Fantastic stuff.”\n“Fantastic\, so interesting\, highly recommend these walks.”\n“Jonathan brought the history of the City to life in an informative and entertaining way.” \nTickets at this link: Monasteries\, Martyrs\, Murder & Meat | London On The Ground
URL:https://islingtonguidedwalks.com/our-walk/monasteries-martyrs-murder-meat-5/
ATTACH;FMTTYPE=image/jpeg:https://islingtonguidedwalks.com/wp-content/uploads/2026/02/20240511_130523-scaled.jpg
END:VEVENT
END:VCALENDAR