BEGIN:VCALENDAR
VERSION:2.0
PRODID:-//Islington Guided Walks - ECPv6.15.11//NONSGML v1.0//EN
CALSCALE:GREGORIAN
METHOD:PUBLISH
X-WR-CALNAME:Islington Guided Walks
X-ORIGINAL-URL:https://islingtonguidedwalks.com
X-WR-CALDESC:Events for Islington Guided Walks
REFRESH-INTERVAL;VALUE=DURATION:PT1H
X-Robots-Tag:noindex
X-PUBLISHED-TTL:PT1H
BEGIN:VTIMEZONE
TZID:Europe/London
BEGIN:DAYLIGHT
TZOFFSETFROM:+0000
TZOFFSETTO:+0100
TZNAME:BST
DTSTART:20250330T010000
END:DAYLIGHT
BEGIN:STANDARD
TZOFFSETFROM:+0100
TZOFFSETTO:+0000
TZNAME:GMT
DTSTART:20251026T010000
END:STANDARD
BEGIN:DAYLIGHT
TZOFFSETFROM:+0000
TZOFFSETTO:+0100
TZNAME:BST
DTSTART:20260329T010000
END:DAYLIGHT
BEGIN:STANDARD
TZOFFSETFROM:+0100
TZOFFSETTO:+0000
TZNAME:GMT
DTSTART:20261025T010000
END:STANDARD
BEGIN:DAYLIGHT
TZOFFSETFROM:+0000
TZOFFSETTO:+0100
TZNAME:BST
DTSTART:20270328T010000
END:DAYLIGHT
BEGIN:STANDARD
TZOFFSETFROM:+0100
TZOFFSETTO:+0000
TZNAME:GMT
DTSTART:20271031T010000
END:STANDARD
END:VTIMEZONE
BEGIN:VEVENT
DTSTART;TZID=Europe/London:20260112T140000
DTEND;TZID=Europe/London:20260112T160000
DTSTAMP:20260422T130841
CREATED:20251206T142217Z
LAST-MODIFIED:20251206T142217Z
UID:10000368-1768226400-1768233600@islingtonguidedwalks.com
SUMMARY:Up the Cally
DESCRIPTION:Caledonian Road is far from London’s tourist trail but that doesn’t mean there’s nothing to see. Far from it\, in this two our zig zag stroll around Islington’s less well known spots Rob Smith will introduce you to a host of curiosities \nThe former home of a live chimpanzee show \nPoetry in unexpected places \nYou’ll hear about the suffragette who starred in Britain’s first martial arts film\nYou’ll visit the site of an experimental Island community\nAll this and a prison\, quiet gardens and a clock tower\nHere’s your chance to see some of the real London with a qualified Islington guide
URL:https://islingtonguidedwalks.com/our-walk/up-the-cally/
ATTACH;FMTTYPE=image/jpeg:https://islingtonguidedwalks.com/wp-content/uploads/2025/12/Up-the-Cally-2-scaled.jpg
END:VEVENT
END:VCALENDAR