BEGIN:VCALENDAR
VERSION:2.0
PRODID:-//Islington Guided Walks - ECPv6.15.11//NONSGML v1.0//EN
CALSCALE:GREGORIAN
METHOD:PUBLISH
X-WR-CALNAME:Islington Guided Walks
X-ORIGINAL-URL:https://islingtonguidedwalks.com
X-WR-CALDESC:Events for Islington Guided Walks
REFRESH-INTERVAL;VALUE=DURATION:PT1H
X-Robots-Tag:noindex
X-PUBLISHED-TTL:PT1H
BEGIN:VTIMEZONE
TZID:Europe/London
BEGIN:DAYLIGHT
TZOFFSETFROM:+0000
TZOFFSETTO:+0100
TZNAME:BST
DTSTART:20240331T010000
END:DAYLIGHT
BEGIN:STANDARD
TZOFFSETFROM:+0100
TZOFFSETTO:+0000
TZNAME:GMT
DTSTART:20241027T010000
END:STANDARD
BEGIN:DAYLIGHT
TZOFFSETFROM:+0000
TZOFFSETTO:+0100
TZNAME:BST
DTSTART:20250330T010000
END:DAYLIGHT
BEGIN:STANDARD
TZOFFSETFROM:+0100
TZOFFSETTO:+0000
TZNAME:GMT
DTSTART:20251026T010000
END:STANDARD
BEGIN:DAYLIGHT
TZOFFSETFROM:+0000
TZOFFSETTO:+0100
TZNAME:BST
DTSTART:20260329T010000
END:DAYLIGHT
BEGIN:STANDARD
TZOFFSETFROM:+0100
TZOFFSETTO:+0000
TZNAME:GMT
DTSTART:20261025T010000
END:STANDARD
END:VTIMEZONE
BEGIN:VEVENT
DTSTART;TZID=Europe/London:20251231T110000
DTEND;TZID=Europe/London:20251231T123000
DTSTAMP:20260423T113320
CREATED:20251223T232240Z
LAST-MODIFIED:20251223T232240Z
UID:10000373-1767178800-1767184200@islingtonguidedwalks.com
SUMMARY:Winter Wanders: Up (and around) Upper Street
DESCRIPTION:Join us on a winter wander up our favourite high street\n\n\n\nFrom Cow Town to quirky Canonbury\, for hundreds of years Islington has attracted more than its fair share of intriguing personalities: artists and art collectors\, novelists and non-conformers\, philanthropists\, philanderers and puppeteers. \nTheir stories help to explain why Islington is such a cool and exciting place to live\, work and play. \nStart your New Year’s Eve celebrations by joining Carolyn and Maxine on a winter wander up Upper Street and around Canonbury and let us introduce you to some of our favourite Islington rebels\, reformers and eccentric characters.
URL:https://islingtonguidedwalks.com/our-walk/winter-wanders-up-and-around-upper-street/
LOCATION:Highbury & Islington Station
ATTACH;FMTTYPE=image/jpeg:https://islingtonguidedwalks.com/wp-content/uploads/2025/12/WhatsApp-Image-2025-12-22-at-12.01.11-1.jpeg
END:VEVENT
END:VCALENDAR