BEGIN:VCALENDAR
VERSION:2.0
PRODID:-//Islington Guided Walks - ECPv6.15.11//NONSGML v1.0//EN
CALSCALE:GREGORIAN
METHOD:PUBLISH
X-WR-CALNAME:Islington Guided Walks
X-ORIGINAL-URL:https://islingtonguidedwalks.com
X-WR-CALDESC:Events for Islington Guided Walks
REFRESH-INTERVAL;VALUE=DURATION:PT1H
X-Robots-Tag:noindex
X-PUBLISHED-TTL:PT1H
BEGIN:VTIMEZONE
TZID:Europe/London
BEGIN:DAYLIGHT
TZOFFSETFROM:+0000
TZOFFSETTO:+0100
TZNAME:BST
DTSTART:20240331T010000
END:DAYLIGHT
BEGIN:STANDARD
TZOFFSETFROM:+0100
TZOFFSETTO:+0000
TZNAME:GMT
DTSTART:20241027T010000
END:STANDARD
BEGIN:DAYLIGHT
TZOFFSETFROM:+0000
TZOFFSETTO:+0100
TZNAME:BST
DTSTART:20250330T010000
END:DAYLIGHT
BEGIN:STANDARD
TZOFFSETFROM:+0100
TZOFFSETTO:+0000
TZNAME:GMT
DTSTART:20251026T010000
END:STANDARD
BEGIN:DAYLIGHT
TZOFFSETFROM:+0000
TZOFFSETTO:+0100
TZNAME:BST
DTSTART:20260329T010000
END:DAYLIGHT
BEGIN:STANDARD
TZOFFSETFROM:+0100
TZOFFSETTO:+0000
TZNAME:GMT
DTSTART:20261025T010000
END:STANDARD
END:VTIMEZONE
BEGIN:VEVENT
DTSTART;TZID=Europe/London:20251129T110000
DTEND;TZID=Europe/London:20251129T130000
DTSTAMP:20260423T134140
CREATED:20251031T153753Z
LAST-MODIFIED:20251031T154724Z
UID:10000332-1764414000-1764421200@islingtonguidedwalks.com
SUMMARY:The Dark Side of Clerkenwell
DESCRIPTION:Clerkenwell may have been crowned the best place to live in London in 2024 by The Times\, but behind today’s calm streets lies a far darker past. Between the 18th and early 20th centuries\, Clerkenwell was one of the most dangerous corners of London—a place where poverty\, crime\, and death walked hand in hand. \nOnce a thriving hub of industry\, Clerkenwell drew in waves of migrants seeking work. But the promises of the Industrial Revolution soon gave way to grim reality: squalid housing\, meagre wages\, and desperate choices. For many\, life narrowed to just two fates—the workhouse or the prison. And in this climate\, crime flourished. The district gained a reputation as a den of thieves\, pickpockets\, and highwaymen\, while its slums inspired some of Charles Dickens’ most vivid characters. \nFrom the 17th century onwards\, at least four different prisons operated here\, packed with thieves\, debtors\, radicals\, and the destitute. The Middlesex House of Correction—infamous for its severity—was once the largest prison in the country. Their looming presence gave rise to the magnificent Sessions House on Clerkenwell Green\, for years the busiest courthouse in England. \nOn this walk we’ll uncover two centuries of Clerkenwell’s hidden history. From the escapades of Jack Sheppard\, the infamous 18th-century thief and master of escape\, to the rise of the Italian gangs of the Sabinis and the Cortesis\, Clerkenwell’s streets echo with tales both thrilling and chilling. \nIf you want to discover the side of Clerkenwell that Londoners once feared\, join me on this walk. Don’t worry—you’ll be safe.
URL:https://islingtonguidedwalks.com/our-walk/the-dark-side-of-clerkenwell/2025-11-29/
END:VEVENT
END:VCALENDAR