BEGIN:VCALENDAR
VERSION:2.0
PRODID:-//Islington Guided Walks - ECPv6.15.11//NONSGML v1.0//EN
CALSCALE:GREGORIAN
METHOD:PUBLISH
X-WR-CALNAME:Islington Guided Walks
X-ORIGINAL-URL:https://islingtonguidedwalks.com
X-WR-CALDESC:Events for Islington Guided Walks
REFRESH-INTERVAL;VALUE=DURATION:PT1H
X-Robots-Tag:noindex
X-PUBLISHED-TTL:PT1H
BEGIN:VTIMEZONE
TZID:Europe/London
BEGIN:DAYLIGHT
TZOFFSETFROM:+0000
TZOFFSETTO:+0100
TZNAME:BST
DTSTART:20240331T010000
END:DAYLIGHT
BEGIN:STANDARD
TZOFFSETFROM:+0100
TZOFFSETTO:+0000
TZNAME:GMT
DTSTART:20241027T010000
END:STANDARD
BEGIN:DAYLIGHT
TZOFFSETFROM:+0000
TZOFFSETTO:+0100
TZNAME:BST
DTSTART:20250330T010000
END:DAYLIGHT
BEGIN:STANDARD
TZOFFSETFROM:+0100
TZOFFSETTO:+0000
TZNAME:GMT
DTSTART:20251026T010000
END:STANDARD
BEGIN:DAYLIGHT
TZOFFSETFROM:+0000
TZOFFSETTO:+0100
TZNAME:BST
DTSTART:20260329T010000
END:DAYLIGHT
BEGIN:STANDARD
TZOFFSETFROM:+0100
TZOFFSETTO:+0000
TZNAME:GMT
DTSTART:20261025T010000
END:STANDARD
END:VTIMEZONE
BEGIN:VEVENT
DTSTART;TZID=Europe/London:20250928T140000
DTEND;TZID=Europe/London:20250928T153000
DTSTAMP:20260424T020916
CREATED:20250904T094058Z
LAST-MODIFIED:20250904T094058Z
UID:10000310-1759068000-1759073400@islingtonguidedwalks.com
SUMMARY:Regent's Canal Regenerated
DESCRIPTION:Join Jen for a Sunday afternoon stroll along and around the Islington section of Regent’s Canal. Follow the history of the canal from its hey-day in the nineteenth century\, through its decline in the 1960s to its subsequent re-invention as a place for people to live\, work and play
URL:https://islingtonguidedwalks.com/our-walk/regents-canal-regenerated-2/
ATTACH;FMTTYPE=image/jpeg:https://islingtonguidedwalks.com/wp-content/uploads/2025/09/Regents-Canal-Regenerated.jpg
END:VEVENT
END:VCALENDAR