BEGIN:VCALENDAR
VERSION:2.0
PRODID:-//Islington Guided Walks - ECPv6.15.11//NONSGML v1.0//EN
CALSCALE:GREGORIAN
METHOD:PUBLISH
X-WR-CALNAME:Islington Guided Walks
X-ORIGINAL-URL:https://islingtonguidedwalks.com
X-WR-CALDESC:Events for Islington Guided Walks
REFRESH-INTERVAL;VALUE=DURATION:PT1H
X-Robots-Tag:noindex
X-PUBLISHED-TTL:PT1H
BEGIN:VTIMEZONE
TZID:Europe/London
BEGIN:DAYLIGHT
TZOFFSETFROM:+0000
TZOFFSETTO:+0100
TZNAME:BST
DTSTART:20240331T010000
END:DAYLIGHT
BEGIN:STANDARD
TZOFFSETFROM:+0100
TZOFFSETTO:+0000
TZNAME:GMT
DTSTART:20241027T010000
END:STANDARD
BEGIN:DAYLIGHT
TZOFFSETFROM:+0000
TZOFFSETTO:+0100
TZNAME:BST
DTSTART:20250330T010000
END:DAYLIGHT
BEGIN:STANDARD
TZOFFSETFROM:+0100
TZOFFSETTO:+0000
TZNAME:GMT
DTSTART:20251026T010000
END:STANDARD
BEGIN:DAYLIGHT
TZOFFSETFROM:+0000
TZOFFSETTO:+0100
TZNAME:BST
DTSTART:20260329T010000
END:DAYLIGHT
BEGIN:STANDARD
TZOFFSETFROM:+0100
TZOFFSETTO:+0000
TZNAME:GMT
DTSTART:20261025T010000
END:STANDARD
END:VTIMEZONE
BEGIN:VEVENT
DTSTART;TZID=Europe/London:20250830T110000
DTEND;TZID=Europe/London:20250830T130000
DTSTAMP:20260424T030725
CREATED:20250528T174508Z
LAST-MODIFIED:20250528T174543Z
UID:10000256-1756551600-1756558800@islingtonguidedwalks.com
SUMMARY:Beautiful Barnsbury
DESCRIPTION:See fine Georgian squares\, secret gardens and London’s smallest nature reserve\, while learning about the area’s history. \nDating back to the Domesday Book of 1086\, Barnsbury was for centuries a rural manor set back a little from the busy Islington main road of Upper Street. \nIn the 18th century its open fields\, fresh water springs\, pleasure gardens (and forerunner of the world’s most famous cricket ground) were built over by 18th century developers. This brought the growing middle classes into the area\, but in the 19th century it was not immune to industrialisation\, overcrowding and a workhouse for the poor. \nToday\, Barnsbury is one of inner London’s most beautiful areas\, tucked away between Upper Street and Caledonian Road. \nStart: Angel tube station\nFinish: Close to Caledonian Road & Barnsbury Overground station\, or a short walk to Highbury & Islington or Caledonian Road tube stations. \nThe walk lasts around two hours. Please be prepared for all weather conditions! \n“Such a wonderful walk around one of the loveliest parts of London”\n“A great afternoon visiting a part of Islington I thought I knew but found out more and more about!” \nTickets from Guided walks\, London blog | London On The Ground
URL:https://islingtonguidedwalks.com/our-walk/beautiful-barnsbury-2/
ATTACH;FMTTYPE=image/jpeg:https://islingtonguidedwalks.com/wp-content/uploads/2023/04/Beautiful-Barnsbury-scaled.jpg
END:VEVENT
END:VCALENDAR