BEGIN:VCALENDAR
VERSION:2.0
PRODID:-//Islington Guided Walks - ECPv6.15.11//NONSGML v1.0//EN
CALSCALE:GREGORIAN
METHOD:PUBLISH
X-ORIGINAL-URL:https://islingtonguidedwalks.com
X-WR-CALDESC:Events for Islington Guided Walks
REFRESH-INTERVAL;VALUE=DURATION:PT1H
X-Robots-Tag:noindex
X-PUBLISHED-TTL:PT1H
BEGIN:VTIMEZONE
TZID:Europe/London
BEGIN:DAYLIGHT
TZOFFSETFROM:+0000
TZOFFSETTO:+0100
TZNAME:BST
DTSTART:20240331T010000
END:DAYLIGHT
BEGIN:STANDARD
TZOFFSETFROM:+0100
TZOFFSETTO:+0000
TZNAME:GMT
DTSTART:20241027T010000
END:STANDARD
BEGIN:DAYLIGHT
TZOFFSETFROM:+0000
TZOFFSETTO:+0100
TZNAME:BST
DTSTART:20250330T010000
END:DAYLIGHT
BEGIN:STANDARD
TZOFFSETFROM:+0100
TZOFFSETTO:+0000
TZNAME:GMT
DTSTART:20251026T010000
END:STANDARD
BEGIN:DAYLIGHT
TZOFFSETFROM:+0000
TZOFFSETTO:+0100
TZNAME:BST
DTSTART:20260329T010000
END:DAYLIGHT
BEGIN:STANDARD
TZOFFSETFROM:+0100
TZOFFSETTO:+0000
TZNAME:GMT
DTSTART:20261025T010000
END:STANDARD
END:VTIMEZONE
BEGIN:VEVENT
DTSTART;TZID=Europe/London:20250726T130000
DTEND;TZID=Europe/London:20250726T143000
DTSTAMP:20260424T100058
CREATED:20250701T123925Z
LAST-MODIFIED:20250701T123925Z
UID:10000261-1753534800-1753540200@islingtonguidedwalks.com
SUMMARY:178 STEPS TO HEAVEN
DESCRIPTION:Islington Guided Walks are organising Caledonian Clock Tower again.Tours are arranged for Sunday 29 June\, Saturday 26 July and Sunday 24 August. \nThe Tower originally opened in 1855 as part of the Caledonian Meat Market which operated from the area now known as Caledonian Park in Market Street N7 close to Caledonian Road Underground Station. It is 45 metres high with178 steps to climb. \nThe tour will cover the fascinating history of London’s meat markets\, you will also be able to see the insides of the wonderful pendulum clock that is older than Big Ben. At the top of the Tower\, there are fantastic\, photogenic 360°views around London.
URL:https://islingtonguidedwalks.com/our-walk/178-steps-to-heaven/2025-07-26/
ATTACH;FMTTYPE=image/jpeg:https://islingtonguidedwalks.com/wp-content/uploads/2025/07/Cally-Tower-2.jpg
END:VEVENT
END:VCALENDAR