BEGIN:VCALENDAR
VERSION:2.0
PRODID:-//Islington Guided Walks - ECPv6.15.11//NONSGML v1.0//EN
CALSCALE:GREGORIAN
METHOD:PUBLISH
X-WR-CALNAME:Islington Guided Walks
X-ORIGINAL-URL:https://islingtonguidedwalks.com
X-WR-CALDESC:Events for Islington Guided Walks
REFRESH-INTERVAL;VALUE=DURATION:PT1H
X-Robots-Tag:noindex
X-PUBLISHED-TTL:PT1H
BEGIN:VTIMEZONE
TZID:Europe/London
BEGIN:DAYLIGHT
TZOFFSETFROM:+0000
TZOFFSETTO:+0100
TZNAME:BST
DTSTART:20240331T010000
END:DAYLIGHT
BEGIN:STANDARD
TZOFFSETFROM:+0100
TZOFFSETTO:+0000
TZNAME:GMT
DTSTART:20241027T010000
END:STANDARD
BEGIN:DAYLIGHT
TZOFFSETFROM:+0000
TZOFFSETTO:+0100
TZNAME:BST
DTSTART:20250330T010000
END:DAYLIGHT
BEGIN:STANDARD
TZOFFSETFROM:+0100
TZOFFSETTO:+0000
TZNAME:GMT
DTSTART:20251026T010000
END:STANDARD
BEGIN:DAYLIGHT
TZOFFSETFROM:+0000
TZOFFSETTO:+0100
TZNAME:BST
DTSTART:20260329T010000
END:DAYLIGHT
BEGIN:STANDARD
TZOFFSETFROM:+0100
TZOFFSETTO:+0000
TZNAME:GMT
DTSTART:20261025T010000
END:STANDARD
END:VTIMEZONE
BEGIN:VEVENT
DTSTART;TZID=Europe/London:20250720T143000
DTEND;TZID=Europe/London:20250720T163000
DTSTAMP:20260424T180548
CREATED:20250528T172539Z
LAST-MODIFIED:20250528T172539Z
UID:10000253-1753021800-1753029000@islingtonguidedwalks.com
SUMMARY:Bunhill: Barracks\, Bone Yards and Baths
DESCRIPTION:Discover nonconformist burial grounds\, one of the oldest regiments in the British Army\, a 90 year-old public baths and wash-house\, the site of London’s first outdoor swimming pool and one of its most unusual churches. \n“Another walk where you think you know the patch and Jonathan shows you the hidden stories!” \nSitting between today’s financial district and the Angel\, Islington’s Bunhill ward is named after an ancient bone yard. Once marshland outside the walls of the City of London\, for a while the area offered spas and outdoor leisure facilities. As urbanisation swallowed the fields\, the area became industrialised and populated by tradesmen\, the poor and the sick. \nThe legacy of the past is still visible\, but this walk will also reveal some hidden architectural gems and tranquil open spaces. \nThe walk lasts approximately two hours. It will take place come rain or shine\, so please be prepared for all weather conditions! \nStart: outside Moorgate tube station\, the western entrance on Moorfields (follow signposts to Exit 1).\nFinish: close to Old Street tube station. \nTickets from Guided walks\, London blog | London On The Ground
URL:https://islingtonguidedwalks.com/our-walk/bunhill-barracks-bone-yards-and-baths-4/
ATTACH;FMTTYPE=image/jpeg:https://islingtonguidedwalks.com/wp-content/uploads/2024/03/Bunhill.jpg
END:VEVENT
END:VCALENDAR